BEGIN:VCALENDAR
VERSION:2.0
PRODID:-//Schtägge-Näschter - ECPv6.15.16.1//NONSGML v1.0//EN
CALSCALE:GREGORIAN
METHOD:PUBLISH
X-ORIGINAL-URL:https://schtaegge-naeschter.de
X-WR-CALDESC:Veranstaltungen für Schtägge-Näschter
REFRESH-INTERVAL;VALUE=DURATION:PT1H
X-Robots-Tag:noindex
X-PUBLISHED-TTL:PT1H
BEGIN:VTIMEZONE
TZID:Europe/Berlin
BEGIN:DAYLIGHT
TZOFFSETFROM:+0100
TZOFFSETTO:+0200
TZNAME:CEST
DTSTART:20230326T010000
END:DAYLIGHT
BEGIN:STANDARD
TZOFFSETFROM:+0200
TZOFFSETTO:+0100
TZNAME:CET
DTSTART:20231029T010000
END:STANDARD
BEGIN:DAYLIGHT
TZOFFSETFROM:+0100
TZOFFSETTO:+0200
TZNAME:CEST
DTSTART:20240331T010000
END:DAYLIGHT
BEGIN:STANDARD
TZOFFSETFROM:+0200
TZOFFSETTO:+0100
TZNAME:CET
DTSTART:20241027T010000
END:STANDARD
BEGIN:DAYLIGHT
TZOFFSETFROM:+0100
TZOFFSETTO:+0200
TZNAME:CEST
DTSTART:20250330T010000
END:DAYLIGHT
BEGIN:STANDARD
TZOFFSETFROM:+0200
TZOFFSETTO:+0100
TZNAME:CET
DTSTART:20251026T010000
END:STANDARD
END:VTIMEZONE
BEGIN:VEVENT
DTSTART;TZID=Europe/Berlin:20241202T200000
DTEND;TZID=Europe/Berlin:20241202T220000
DTSTAMP:20260421T102354
CREATED:20241008T150604Z
LAST-MODIFIED:20241008T150604Z
UID:17933-1733169600-1733176800@schtaegge-naeschter.de
SUMMARY:Probe
DESCRIPTION:
URL:https://schtaegge-naeschter.de/event/probe-75/
LOCATION:Probelokal\, Widumstraße 6\, Eigeltingen-Honstetten\, Baden-Württemberg\, 78253\, Deutschland
CATEGORIES:Proben
END:VEVENT
BEGIN:VEVENT
DTSTART;TZID=Europe/Berlin:20241209T200000
DTEND;TZID=Europe/Berlin:20241209T220000
DTSTAMP:20260421T102354
CREATED:20241008T150633Z
LAST-MODIFIED:20241008T150633Z
UID:17936-1733774400-1733781600@schtaegge-naeschter.de
SUMMARY:Probe
DESCRIPTION:
URL:https://schtaegge-naeschter.de/event/probe-76/
LOCATION:Probelokal\, Widumstraße 6\, Eigeltingen-Honstetten\, Baden-Württemberg\, 78253\, Deutschland
CATEGORIES:Proben
END:VEVENT
BEGIN:VEVENT
DTSTART;TZID=Europe/Berlin:20241213T200000
DTEND;TZID=Europe/Berlin:20241213T220000
DTSTAMP:20260421T102354
CREATED:20241008T150856Z
LAST-MODIFIED:20241008T150956Z
UID:17945-1734120000-1734127200@schtaegge-naeschter.de
SUMMARY:Probewochenende
DESCRIPTION:
URL:https://schtaegge-naeschter.de/event/probewochenende-6/
LOCATION:Probelokal\, Widumstraße 6\, Eigeltingen-Honstetten\, Baden-Württemberg\, 78253\, Deutschland
CATEGORIES:Proben
END:VEVENT
BEGIN:VEVENT
DTSTART;TZID=Europe/Berlin:20241214T100000
DTEND;TZID=Europe/Berlin:20241214T180000
DTSTAMP:20260421T102354
CREATED:20241008T151043Z
LAST-MODIFIED:20241008T151043Z
UID:17949-1734170400-1734199200@schtaegge-naeschter.de
SUMMARY:Probewochenende
DESCRIPTION:
URL:https://schtaegge-naeschter.de/event/probewochenende-7/
LOCATION:Probelokal\, Widumstraße 6\, Eigeltingen-Honstetten\, Baden-Württemberg\, 78253\, Deutschland
CATEGORIES:Proben
END:VEVENT
BEGIN:VEVENT
DTSTART;TZID=Europe/Berlin:20241216T200000
DTEND;TZID=Europe/Berlin:20241216T220000
DTSTAMP:20260421T102354
CREATED:20241008T150708Z
LAST-MODIFIED:20241008T150708Z
UID:17939-1734379200-1734386400@schtaegge-naeschter.de
SUMMARY:Probe
DESCRIPTION:
URL:https://schtaegge-naeschter.de/event/probe-77/
LOCATION:Probelokal\, Widumstraße 6\, Eigeltingen-Honstetten\, Baden-Württemberg\, 78253\, Deutschland
CATEGORIES:Proben
END:VEVENT
BEGIN:VEVENT
DTSTART;TZID=Europe/Berlin:20241223T200000
DTEND;TZID=Europe/Berlin:20241223T220000
DTSTAMP:20260421T102354
CREATED:20241008T150804Z
LAST-MODIFIED:20241008T150804Z
UID:17942-1734984000-1734991200@schtaegge-naeschter.de
SUMMARY:Probe
DESCRIPTION:
URL:https://schtaegge-naeschter.de/event/probe-78/
LOCATION:Probelokal\, Widumstraße 6\, Eigeltingen-Honstetten\, Baden-Württemberg\, 78253\, Deutschland
CATEGORIES:Proben
END:VEVENT
END:VCALENDAR