BEGIN:VCALENDAR
VERSION:2.0
PRODID:-//Schtägge-Näschter - ECPv6.15.16.1//NONSGML v1.0//EN
CALSCALE:GREGORIAN
METHOD:PUBLISH
X-ORIGINAL-URL:https://schtaegge-naeschter.de
X-WR-CALDESC:Veranstaltungen für Schtägge-Näschter
REFRESH-INTERVAL;VALUE=DURATION:PT1H
X-Robots-Tag:noindex
X-PUBLISHED-TTL:PT1H
BEGIN:VTIMEZONE
TZID:Europe/Berlin
BEGIN:DAYLIGHT
TZOFFSETFROM:+0100
TZOFFSETTO:+0200
TZNAME:CEST
DTSTART:20230326T010000
END:DAYLIGHT
BEGIN:STANDARD
TZOFFSETFROM:+0200
TZOFFSETTO:+0100
TZNAME:CET
DTSTART:20231029T010000
END:STANDARD
BEGIN:DAYLIGHT
TZOFFSETFROM:+0100
TZOFFSETTO:+0200
TZNAME:CEST
DTSTART:20240331T010000
END:DAYLIGHT
BEGIN:STANDARD
TZOFFSETFROM:+0200
TZOFFSETTO:+0100
TZNAME:CET
DTSTART:20241027T010000
END:STANDARD
BEGIN:DAYLIGHT
TZOFFSETFROM:+0100
TZOFFSETTO:+0200
TZNAME:CEST
DTSTART:20250330T010000
END:DAYLIGHT
BEGIN:STANDARD
TZOFFSETFROM:+0200
TZOFFSETTO:+0100
TZNAME:CET
DTSTART:20251026T010000
END:STANDARD
END:VTIMEZONE
BEGIN:VEVENT
DTSTART;TZID=Europe/Berlin:20241016T200000
DTEND;TZID=Europe/Berlin:20241016T220000
DTSTAMP:20260421T134045
CREATED:20241008T150224Z
LAST-MODIFIED:20241008T150232Z
UID:17912-1729108800-1729116000@schtaegge-naeschter.de
SUMMARY:Probe
DESCRIPTION:
URL:https://schtaegge-naeschter.de/event/probe-68/
LOCATION:Probelokal\, Widumstraße 6\, Eigeltingen-Honstetten\, Baden-Württemberg\, 78253\, Deutschland
CATEGORIES:Proben
END:VEVENT
BEGIN:VEVENT
DTSTART;TZID=Europe/Berlin:20241021T200000
DTEND;TZID=Europe/Berlin:20241021T220000
DTSTAMP:20260421T134045
CREATED:20241008T150312Z
LAST-MODIFIED:20241008T150312Z
UID:17915-1729540800-1729548000@schtaegge-naeschter.de
SUMMARY:Probe
DESCRIPTION:
URL:https://schtaegge-naeschter.de/event/probe-69/
LOCATION:Probelokal\, Widumstraße 6\, Eigeltingen-Honstetten\, Baden-Württemberg\, 78253\, Deutschland
CATEGORIES:Proben
END:VEVENT
BEGIN:VEVENT
DTSTART;TZID=Europe/Berlin:20241030T200000
DTEND;TZID=Europe/Berlin:20241030T220000
DTSTAMP:20260421T134045
CREATED:20241008T150340Z
LAST-MODIFIED:20241023T172346Z
UID:17918-1730318400-1730325600@schtaegge-naeschter.de
SUMMARY:Probe
DESCRIPTION:
URL:https://schtaegge-naeschter.de/event/probe-70/
LOCATION:Probelokal\, Widumstraße 6\, Eigeltingen-Honstetten\, Baden-Württemberg\, 78253\, Deutschland
CATEGORIES:Proben
END:VEVENT
END:VCALENDAR