BEGIN:VCALENDAR
VERSION:2.0
PRODID:-//Schtägge-Näschter - ECPv6.15.16.1//NONSGML v1.0//EN
CALSCALE:GREGORIAN
METHOD:PUBLISH
X-ORIGINAL-URL:https://schtaegge-naeschter.de
X-WR-CALDESC:Veranstaltungen für Schtägge-Näschter
REFRESH-INTERVAL;VALUE=DURATION:PT1H
X-Robots-Tag:noindex
X-PUBLISHED-TTL:PT1H
BEGIN:VTIMEZONE
TZID:Europe/Berlin
BEGIN:DAYLIGHT
TZOFFSETFROM:+0100
TZOFFSETTO:+0200
TZNAME:CEST
DTSTART:20230326T010000
END:DAYLIGHT
BEGIN:STANDARD
TZOFFSETFROM:+0200
TZOFFSETTO:+0100
TZNAME:CET
DTSTART:20231029T010000
END:STANDARD
BEGIN:DAYLIGHT
TZOFFSETFROM:+0100
TZOFFSETTO:+0200
TZNAME:CEST
DTSTART:20240331T010000
END:DAYLIGHT
BEGIN:STANDARD
TZOFFSETFROM:+0200
TZOFFSETTO:+0100
TZNAME:CET
DTSTART:20241027T010000
END:STANDARD
BEGIN:DAYLIGHT
TZOFFSETFROM:+0100
TZOFFSETTO:+0200
TZNAME:CEST
DTSTART:20250330T010000
END:DAYLIGHT
BEGIN:STANDARD
TZOFFSETFROM:+0200
TZOFFSETTO:+0100
TZNAME:CET
DTSTART:20251026T010000
END:STANDARD
END:VTIMEZONE
BEGIN:VEVENT
DTSTART;TZID=Europe/Berlin:20240202T190000
DTEND;TZID=Europe/Berlin:20240203T020000
DTSTAMP:20260422T042243
CREATED:20231008T174452Z
LAST-MODIFIED:20231212T193754Z
UID:17333-1706900400-1706925600@schtaegge-naeschter.de
SUMMARY:Bietingen Freundschaftstreffen 2024
DESCRIPTION:
URL:https://schtaegge-naeschter.de/event/sauldorf/
LOCATION:Bietingen\, Bietingen\, Baden-Württemberg\, 88605\, Deutschland
CATEGORIES:Auftrittstermine
END:VEVENT
BEGIN:VEVENT
DTSTART;TZID=Europe/Berlin:20240207T190000
DTEND;TZID=Europe/Berlin:20240208T020000
DTSTAMP:20260422T042243
CREATED:20231008T174548Z
LAST-MODIFIED:20231212T193836Z
UID:17338-1707332400-1707357600@schtaegge-naeschter.de
SUMMARY:Nesselwangen
DESCRIPTION:
URL:https://schtaegge-naeschter.de/event/nesselwangen-4/
LOCATION:Dorfgemeinschaftshaus Nesselwangen\, Fahnenösch 2\, Nesselwangen/ Überlingen\, Baden- Württemberg\, 88662\, Deutschland
CATEGORIES:Auftrittstermine
END:VEVENT
BEGIN:VEVENT
DTSTART;TZID=Europe/Berlin:20240208T193000
DTEND;TZID=Europe/Berlin:20240209T010000
DTSTAMP:20260422T042243
CREATED:20231008T174631Z
LAST-MODIFIED:20231212T193923Z
UID:17341-1707420600-1707440400@schtaegge-naeschter.de
SUMMARY:Liptingen
DESCRIPTION:
URL:https://schtaegge-naeschter.de/event/liptingen-6/
LOCATION:Schloßbühlhalle Liptingen\, Jahnstraße\, Liptingen\, Baden- Württemberg\, 78576\, Deutschland
CATEGORIES:Auftrittstermine
END:VEVENT
BEGIN:VEVENT
DTSTART;VALUE=DATE:20240209
DTEND;VALUE=DATE:20240213
DTSTAMP:20260422T042243
CREATED:20231008T174657Z
LAST-MODIFIED:20231008T174657Z
UID:17344-1707465600-1707724799@schtaegge-naeschter.de
SUMMARY:Köln und Umgebung
DESCRIPTION:
URL:https://schtaegge-naeschter.de/event/koeln-und-umgebung/
LOCATION:Baden-Württemberg
CATEGORIES:Auftrittstermine
END:VEVENT
END:VCALENDAR