BEGIN:VCALENDAR
VERSION:2.0
PRODID:-//Schtägge-Näschter - ECPv6.15.16.1//NONSGML v1.0//EN
CALSCALE:GREGORIAN
METHOD:PUBLISH
X-ORIGINAL-URL:https://schtaegge-naeschter.de
X-WR-CALDESC:Veranstaltungen für Schtägge-Näschter
REFRESH-INTERVAL;VALUE=DURATION:PT1H
X-Robots-Tag:noindex
X-PUBLISHED-TTL:PT1H
BEGIN:VTIMEZONE
TZID:Europe/Berlin
BEGIN:DAYLIGHT
TZOFFSETFROM:+0100
TZOFFSETTO:+0200
TZNAME:CEST
DTSTART:20220327T010000
END:DAYLIGHT
BEGIN:STANDARD
TZOFFSETFROM:+0200
TZOFFSETTO:+0100
TZNAME:CET
DTSTART:20221030T010000
END:STANDARD
BEGIN:DAYLIGHT
TZOFFSETFROM:+0100
TZOFFSETTO:+0200
TZNAME:CEST
DTSTART:20230326T010000
END:DAYLIGHT
BEGIN:STANDARD
TZOFFSETFROM:+0200
TZOFFSETTO:+0100
TZNAME:CET
DTSTART:20231029T010000
END:STANDARD
BEGIN:DAYLIGHT
TZOFFSETFROM:+0100
TZOFFSETTO:+0200
TZNAME:CEST
DTSTART:20240331T010000
END:DAYLIGHT
BEGIN:STANDARD
TZOFFSETFROM:+0200
TZOFFSETTO:+0100
TZNAME:CET
DTSTART:20241027T010000
END:STANDARD
END:VTIMEZONE
BEGIN:VEVENT
DTSTART;TZID=Europe/Berlin:20230204T120000
DTEND;TZID=Europe/Berlin:20230204T220000
DTSTAMP:20260423T010236
CREATED:20221122T202324Z
LAST-MODIFIED:20221218T092407Z
UID:16862-1675512000-1675548000@schtaegge-naeschter.de
SUMMARY:Daisendorf
DESCRIPTION:Umzug mit unseren Freunden des Narrenverein Der Überlinger Löwe e.V.
URL:https://schtaegge-naeschter.de/event/daisendorf/
LOCATION:Daisendorf\, Daisendorf\, Baden-Württemberg\, 88718\, Deutschland
CATEGORIES:Auftrittstermine
END:VEVENT
BEGIN:VEVENT
DTSTART;TZID=Europe/Berlin:20230211T190000
DTEND;TZID=Europe/Berlin:20230212T020000
DTSTAMP:20260423T010236
CREATED:20221122T200752Z
LAST-MODIFIED:20221122T200752Z
UID:16844-1676142000-1676167200@schtaegge-naeschter.de
SUMMARY:Honstetten
DESCRIPTION:Zunftabend der Burgnarrenzunft Wasserburger Talgeister Honstetten
URL:https://schtaegge-naeschter.de/event/honstetten-4/
LOCATION:Tudoburghalle Honstetten\, Widumstraße 10\, Honstetten/ Eigeltingen\, Baden- Württemberg\, 78253\, Deutschland
END:VEVENT
BEGIN:VEVENT
DTSTART;TZID=Europe/Berlin:20230216T190000
DTEND;TZID=Europe/Berlin:20230217T020000
DTSTAMP:20260423T010236
CREATED:20221122T201012Z
LAST-MODIFIED:20221122T201012Z
UID:16848-1676574000-1676599200@schtaegge-naeschter.de
SUMMARY:Liptingen
DESCRIPTION:Närrischer Stimmungsabend des Narrenverein Schlehenbeisser e.V. Liptingen
URL:https://schtaegge-naeschter.de/event/liptingen-5/
LOCATION:Schloßbühlhalle Liptingen\, Jahnstraße\, Liptingen\, Baden- Württemberg\, 78576\, Deutschland
CATEGORIES:Auftrittstermine
END:VEVENT
BEGIN:VEVENT
DTSTART;TZID=Europe/Berlin:20230217T080000
DTEND;TZID=Europe/Berlin:20230218T020000
DTSTAMP:20260423T010236
CREATED:20221122T201315Z
LAST-MODIFIED:20221122T201315Z
UID:16854-1676620800-1676685600@schtaegge-naeschter.de
SUMMARY:Honstetten
DESCRIPTION:Spotlerball des RSV Honstetten
URL:https://schtaegge-naeschter.de/event/honstetten-5/
LOCATION:Tudoburghalle Honstetten\, Widumstraße 10\, Honstetten/ Eigeltingen\, Baden- Württemberg\, 78253\, Deutschland
CATEGORIES:Auftrittstermine
END:VEVENT
BEGIN:VEVENT
DTSTART;TZID=Europe/Berlin:20230218T180000
DTEND;TZID=Europe/Berlin:20230219T020000
DTSTAMP:20260423T010236
CREATED:20221218T091949Z
LAST-MODIFIED:20221218T091949Z
UID:16878-1676743200-1676772000@schtaegge-naeschter.de
SUMMARY:Nennzingen
DESCRIPTION:
URL:https://schtaegge-naeschter.de/event/nennzingen/
LOCATION:Rebberghalle Nennzingen\, Im Grund 1\, Orsingen-Nenzingen\, Baden-Württemberg\, 78359\, Deutschland
CATEGORIES:Auftrittstermine
ORGANIZER;CN="Narrenverein Moofangen Nenzingen 1877 e.V.":MAILTO:info@moofangen.de
END:VEVENT
BEGIN:VEVENT
DTSTART;TZID=Europe/Berlin:20230219T120000
DTEND;TZID=Europe/Berlin:20230219T220000
DTSTAMP:20260423T010236
CREATED:20221218T091201Z
LAST-MODIFIED:20221218T091201Z
UID:16868-1676808000-1676844000@schtaegge-naeschter.de
SUMMARY:Titisee
DESCRIPTION:Fasnet-Sundig Umzug der Zunft der Seeräuber
URL:https://schtaegge-naeschter.de/event/titisee/
LOCATION:Titisee\, Neustädter Str. 8\, Titisee-Neustadt\, Baden-Württemberg\, 79822\, Deutschland
CATEGORIES:Auftrittstermine
ORGANIZER;CN="Zunft der Seer%C3%A4uber":MAILTO:captain@zunft-der-seeraeuber.de
END:VEVENT
BEGIN:VEVENT
DTSTART;TZID=Europe/Berlin:20230220T180000
DTEND;TZID=Europe/Berlin:20230221T020000
DTSTAMP:20260423T010236
CREATED:20221218T092615Z
LAST-MODIFIED:20221218T092615Z
UID:16889-1676916000-1676944800@schtaegge-naeschter.de
SUMMARY:Güttingen
DESCRIPTION:
URL:https://schtaegge-naeschter.de/event/guettingen/
LOCATION:Buchenseehalle Güttingen\, Badener Str. 32\, Güttingen\, Baden-Württemberg\, 78315\, Deutschland
CATEGORIES:Auftrittstermine
END:VEVENT
END:VCALENDAR