BEGIN:VCALENDAR
VERSION:2.0
PRODID:-//Schtägge-Näschter - ECPv6.15.16.1//NONSGML v1.0//EN
CALSCALE:GREGORIAN
METHOD:PUBLISH
X-ORIGINAL-URL:https://schtaegge-naeschter.de
X-WR-CALDESC:Veranstaltungen für Schtägge-Näschter
REFRESH-INTERVAL;VALUE=DURATION:PT1H
X-Robots-Tag:noindex
X-PUBLISHED-TTL:PT1H
BEGIN:VTIMEZONE
TZID:Europe/Berlin
BEGIN:DAYLIGHT
TZOFFSETFROM:+0100
TZOFFSETTO:+0200
TZNAME:CEST
DTSTART:20210328T010000
END:DAYLIGHT
BEGIN:STANDARD
TZOFFSETFROM:+0200
TZOFFSETTO:+0100
TZNAME:CET
DTSTART:20211031T010000
END:STANDARD
BEGIN:DAYLIGHT
TZOFFSETFROM:+0100
TZOFFSETTO:+0200
TZNAME:CEST
DTSTART:20220327T010000
END:DAYLIGHT
BEGIN:STANDARD
TZOFFSETFROM:+0200
TZOFFSETTO:+0100
TZNAME:CET
DTSTART:20221030T010000
END:STANDARD
BEGIN:DAYLIGHT
TZOFFSETFROM:+0100
TZOFFSETTO:+0200
TZNAME:CEST
DTSTART:20230326T010000
END:DAYLIGHT
BEGIN:STANDARD
TZOFFSETFROM:+0200
TZOFFSETTO:+0100
TZNAME:CET
DTSTART:20231029T010000
END:STANDARD
END:VTIMEZONE
BEGIN:VEVENT
DTSTART;TZID=Europe/Berlin:20221007T200000
DTEND;TZID=Europe/Berlin:20221007T213000
DTSTAMP:20260423T072952
CREATED:20221007T151903Z
LAST-MODIFIED:20221007T152748Z
UID:16747-1665172800-1665178200@schtaegge-naeschter.de
SUMMARY:Generalversammlung
DESCRIPTION:
URL:https://schtaegge-naeschter.de/event/generalversammlung/
LOCATION:Probelokal\, Widumstraße 6\, Eigeltingen-Honstetten\, Baden-Württemberg\, 78253\, Deutschland
CATEGORIES:Generalversammlung
END:VEVENT
BEGIN:VEVENT
DTSTART;TZID=Europe/Berlin:20221017T200000
DTEND;TZID=Europe/Berlin:20221017T220000
DTSTAMP:20260423T072952
CREATED:20221007T151611Z
LAST-MODIFIED:20221007T151611Z
UID:16735-1666036800-1666044000@schtaegge-naeschter.de
SUMMARY:Probe
DESCRIPTION:
URL:https://schtaegge-naeschter.de/event/probe-57/
LOCATION:Probelokal\, Widumstraße 6\, Eigeltingen-Honstetten\, Baden-Württemberg\, 78253\, Deutschland
CATEGORIES:Proben
END:VEVENT
BEGIN:VEVENT
DTSTART;TZID=Europe/Berlin:20221024T200000
DTEND;TZID=Europe/Berlin:20221024T220000
DTSTAMP:20260423T072952
CREATED:20221007T151705Z
LAST-MODIFIED:20221007T151705Z
UID:16738-1666641600-1666648800@schtaegge-naeschter.de
SUMMARY:Probe
DESCRIPTION:
URL:https://schtaegge-naeschter.de/event/probe-58/
LOCATION:Probelokal\, Widumstraße 6\, Eigeltingen-Honstetten\, Baden-Württemberg\, 78253\, Deutschland
CATEGORIES:Proben
END:VEVENT
BEGIN:VEVENT
DTSTART;TZID=Europe/Berlin:20221031T200000
DTEND;TZID=Europe/Berlin:20221031T220000
DTSTAMP:20260423T072952
CREATED:20221007T151751Z
LAST-MODIFIED:20221007T151751Z
UID:16741-1667246400-1667253600@schtaegge-naeschter.de
SUMMARY:Probe
DESCRIPTION:
URL:https://schtaegge-naeschter.de/event/probe-59/
LOCATION:Probelokal\, Widumstraße 6\, Eigeltingen-Honstetten\, Baden-Württemberg\, 78253\, Deutschland
CATEGORIES:Proben
END:VEVENT
END:VCALENDAR