BEGIN:VCALENDAR
VERSION:2.0
PRODID:-//Schtägge-Näschter - ECPv6.15.16.1//NONSGML v1.0//EN
CALSCALE:GREGORIAN
METHOD:PUBLISH
X-WR-CALNAME:Schtägge-Näschter
X-ORIGINAL-URL:https://schtaegge-naeschter.de
X-WR-CALDESC:Veranstaltungen für Schtägge-Näschter
REFRESH-INTERVAL;VALUE=DURATION:PT1H
X-Robots-Tag:noindex
X-PUBLISHED-TTL:PT1H
BEGIN:VTIMEZONE
TZID:Europe/Berlin
BEGIN:DAYLIGHT
TZOFFSETFROM:+0100
TZOFFSETTO:+0200
TZNAME:CEST
DTSTART:20190331T010000
END:DAYLIGHT
BEGIN:STANDARD
TZOFFSETFROM:+0200
TZOFFSETTO:+0100
TZNAME:CET
DTSTART:20191027T010000
END:STANDARD
BEGIN:DAYLIGHT
TZOFFSETFROM:+0100
TZOFFSETTO:+0200
TZNAME:CEST
DTSTART:20200329T010000
END:DAYLIGHT
BEGIN:STANDARD
TZOFFSETFROM:+0200
TZOFFSETTO:+0100
TZNAME:CET
DTSTART:20201025T010000
END:STANDARD
BEGIN:DAYLIGHT
TZOFFSETFROM:+0100
TZOFFSETTO:+0200
TZNAME:CEST
DTSTART:20210328T010000
END:DAYLIGHT
BEGIN:STANDARD
TZOFFSETFROM:+0200
TZOFFSETTO:+0100
TZNAME:CET
DTSTART:20211031T010000
END:STANDARD
END:VTIMEZONE
BEGIN:VEVENT
DTSTART;TZID=Europe/Berlin:20200207T200000
DTEND;TZID=Europe/Berlin:20200208T020000
DTSTAMP:20260425T153318
CREATED:20191028T180759Z
LAST-MODIFIED:20191029T084558Z
UID:15489-1581105600-1581127200@schtaegge-naeschter.de
SUMMARY:Narrentage Eigeltingen
DESCRIPTION:Nachtumzüge sind doch mal was anderes als in der Halle zu spielen\, daher sind wir mit unserer Zunft am 07.02. in Eigeltingen an den Narrentagen 2020 zu finden. \nAnschließend  werdet ihr beim närrischen Treiben im Ort und im Festzelt einige von uns wieder antreffen.  \n  \nBusdaten: \nAbfahrt: 16:45 Uhr& 17:30 Uhr \nRückfahrt: 00:30 Uhr& 01:30 Uhr
URL:https://schtaegge-naeschter.de/event/eigeltingen/
LOCATION:Eigeltingen\, Eigeltingen\, Baden-Württemberg\, 78253\, Deutschland
CATEGORIES:Auftrittstermine
END:VEVENT
BEGIN:VEVENT
DTSTART;TZID=Europe/Berlin:20200215T190000
DTEND;TZID=Europe/Berlin:20200216T020000
DTSTAMP:20260425T153318
CREATED:20191028T180922Z
LAST-MODIFIED:20191029T081811Z
UID:15492-1581793200-1581818400@schtaegge-naeschter.de
SUMMARY:Zunftabend Honstetten
DESCRIPTION:Eine Woche vor Fasnacht findet ganz traditionell der Zunftabend unserer Wasserburger Talgeister statt.  \nHier werden wieder atemberaubende Tänze\, musikalische Vorträge und Reden den Abend umrahmen. \nAls krönenden Abschluss werden wir unser diesjähriges Programm das erste mal vor heimischem Publikum vortragen.
URL:https://schtaegge-naeschter.de/event/zunftabend-honstetten-2/
LOCATION:Tudoburghalle Honstetten\, Widumstraße 10\, Honstetten/ Eigeltingen\, Baden- Württemberg\, 78253\, Deutschland
CATEGORIES:Auftrittstermine
END:VEVENT
BEGIN:VEVENT
DTSTART;TZID=Europe/Berlin:20200220T203000
DTEND;TZID=Europe/Berlin:20200221T010000
DTSTAMP:20260425T153318
CREATED:20191028T181426Z
LAST-MODIFIED:20191029T084708Z
UID:15496-1582230600-1582246800@schtaegge-naeschter.de
SUMMARY:Liptingen
DESCRIPTION:Fasnachtswoche- Klappe die zweite. Nachdem die meisten von uns in Ihren Heimatdörfern den Schmotzigen Donnerstag eingeläutet und gefeiert haben\, geht es am Abend in die Schloßbühlhalle nach Liptingen um dort wieder einmal unser vermeidlich längstes Programm zu spielen. \nSeit dabei und genießt die guten alten Klassiker\, welche meist nur an diesem Abend gespielt werden. \n  \nBusdaten: \nAbfahrt: 20:30 Uhr \nRückfahrt: 01:00 Uhr
URL:https://schtaegge-naeschter.de/event/liptingen-4/
LOCATION:Schloßbühlhalle Liptingen\, Jahnstraße\, Liptingen\, Baden- Württemberg\, 78576\, Deutschland
CATEGORIES:Auftrittstermine
END:VEVENT
BEGIN:VEVENT
DTSTART;TZID=Europe/Berlin:20200221T190000
DTEND;TZID=Europe/Berlin:20200222T020000
DTSTAMP:20260425T153318
CREATED:20191028T181613Z
LAST-MODIFIED:20191029T082943Z
UID:15498-1582311600-1582336800@schtaegge-naeschter.de
SUMMARY:Sportlerball Honstetten
DESCRIPTION:Kostüm- und Maskenball in der Heimat. \nWas gibt es schöneres\, als unerkannt durch die Tudoburghalle zu ziehen und am Ende des Abends überraschte Gesichter zu sehen\, wer sich unter welcher Maske versteckt. \nAufgrund dessen\, wird exklusiv für die Anwesenden\, die Lumpenkapelle Honstetten für euch aufspielen.
URL:https://schtaegge-naeschter.de/event/sportlerball-honstetten/
LOCATION:Tudoburghalle Honstetten\, Widumstraße 10\, Honstetten/ Eigeltingen\, Baden- Württemberg\, 78253\, Deutschland
CATEGORIES:Auftrittstermine
END:VEVENT
BEGIN:VEVENT
DTSTART;TZID=Europe/Berlin:20200222T200000
DTEND;TZID=Europe/Berlin:20200223T020000
DTSTAMP:20260425T153318
CREATED:20191028T181713Z
LAST-MODIFIED:20191028T181713Z
UID:15501-1582401600-1582423200@schtaegge-naeschter.de
SUMMARY:6-Dörfertreffen Eigeltingen
DESCRIPTION:
URL:https://schtaegge-naeschter.de/event/6-doerfertreffen-eigeltingen/
LOCATION:Baden-Württemberg
CATEGORIES:Auftrittstermine
END:VEVENT
BEGIN:VEVENT
DTSTART;TZID=Europe/Berlin:20200223T123000
DTEND;TZID=Europe/Berlin:20200223T210000
DTSTAMP:20260425T153318
CREATED:20191028T181817Z
LAST-MODIFIED:20191029T090205Z
UID:15504-1582461000-1582491600@schtaegge-naeschter.de
SUMMARY:Überlingen& Nenzingen
DESCRIPTION:Die Überlinger Löwen werden 25 Jahr alt! \nDas nehmen wir als Grund um mit unseren guten Freundinnen ihr Jubiläum zu feiern. \nAm schönen Bodensee werden wir den Umzug umrahmen\, bevor wir die Stadt unsicher machen. \n  \nIn den späteren Stunden werden wir noch nach Nenzingen fahren\, um uns dort noch einige Stunden unter die Leute zu mischen und den Höhepunkt der Fasnacht zu feiern. \n  \nBusdaten: \nAbfahrt: 12:30 Uhr \nRückfahrt: 21:00 Uhr
URL:https://schtaegge-naeschter.de/event/ueberlingen-nenzingen/
LOCATION:Überlingen\, Überlingen\, Baden-Württemberg\, 88662\, Deutschland
CATEGORIES:Auftrittstermine
END:VEVENT
BEGIN:VEVENT
DTSTART;TZID=Europe/Berlin:20200224T203000
DTEND;TZID=Europe/Berlin:20200225T020000
DTSTAMP:20260425T153318
CREATED:20191028T181936Z
LAST-MODIFIED:20191108T073242Z
UID:15506-1582576200-1582596000@schtaegge-naeschter.de
SUMMARY:Bullemääntig Güttingen
DESCRIPTION:Finale! \nWer bis heute unser diesjähriges Programm nicht gehört hat\, hat auf jeden Fall direkt zum Start des Jahres etwas verpasst! \nDaher bieten wir euch ein letzes mal die Möglichkeit uns zu hören.  \nWir werden in Güttingen am Bullemääntig aufspielen. \n  \nHierbei gibt es zu beachten: One-Way& Einlass ab 18 Jahren \n  \nBusdaten: \nAbfahrt: 20:30 Uhr \nRückfahrt: 02:00 Uhr
URL:https://schtaegge-naeschter.de/event/bullemaentig-guettingen/
LOCATION:Buchenseehalle Güttingen\, Badener Str. 32\, Güttingen\, Baden-Württemberg\, 78315\, Deutschland
CATEGORIES:Auftrittstermine
END:VEVENT
END:VCALENDAR