BEGIN:VCALENDAR
VERSION:2.0
PRODID:-//Schtägge-Näschter - ECPv6.15.16.1//NONSGML v1.0//EN
CALSCALE:GREGORIAN
METHOD:PUBLISH
X-ORIGINAL-URL:https://schtaegge-naeschter.de
X-WR-CALDESC:Veranstaltungen für Schtägge-Näschter
REFRESH-INTERVAL;VALUE=DURATION:PT1H
X-Robots-Tag:noindex
X-PUBLISHED-TTL:PT1H
BEGIN:VTIMEZONE
TZID:Europe/Berlin
BEGIN:DAYLIGHT
TZOFFSETFROM:+0100
TZOFFSETTO:+0200
TZNAME:CEST
DTSTART:20190331T010000
END:DAYLIGHT
BEGIN:STANDARD
TZOFFSETFROM:+0200
TZOFFSETTO:+0100
TZNAME:CET
DTSTART:20191027T010000
END:STANDARD
BEGIN:DAYLIGHT
TZOFFSETFROM:+0100
TZOFFSETTO:+0200
TZNAME:CEST
DTSTART:20200329T010000
END:DAYLIGHT
BEGIN:STANDARD
TZOFFSETFROM:+0200
TZOFFSETTO:+0100
TZNAME:CET
DTSTART:20201025T010000
END:STANDARD
BEGIN:DAYLIGHT
TZOFFSETFROM:+0100
TZOFFSETTO:+0200
TZNAME:CEST
DTSTART:20210328T010000
END:DAYLIGHT
BEGIN:STANDARD
TZOFFSETFROM:+0200
TZOFFSETTO:+0100
TZNAME:CET
DTSTART:20211031T010000
END:STANDARD
END:VTIMEZONE
BEGIN:VEVENT
DTSTART;TZID=Europe/Berlin:20200103T200000
DTEND;TZID=Europe/Berlin:20200103T220000
DTSTAMP:20260425T172809
CREATED:20191029T074140Z
LAST-MODIFIED:20191029T074140Z
UID:15540-1578081600-1578088800@schtaegge-naeschter.de
SUMMARY:Probe
DESCRIPTION:
URL:https://schtaegge-naeschter.de/event/probe-47/
LOCATION:Probelokal\, Widumstraße 6\, Eigeltingen-Honstetten\, Baden-Württemberg\, 78253\, Deutschland
CATEGORIES:Proben
END:VEVENT
BEGIN:VEVENT
DTSTART;TZID=Europe/Berlin:20200105T203000
DTEND;TZID=Europe/Berlin:20200106T020000
DTSTAMP:20260425T172809
CREATED:20191028T173829Z
LAST-MODIFIED:20191029T080905Z
UID:15470-1578256200-1578276000@schtaegge-naeschter.de
SUMMARY:Liggersdorf
DESCRIPTION:Jeder der die Schtägge Näschter Honstetten kennt\, weiß ganz genau wo er unser neu einstudiertes Programm das erste mal auf die Ohren bekommt. \nRichtig\, in der Hohenfelshalle in Liggersdorf werden wir euch wieder einmal musikalisch überraschen. \nIm Voraus schon einmal ein Dank an Jörg für seine gute Stückauswahl. \n  \nBusdaten: \nAbfahrt: 20:30 Uhr \nRückfahrt: 02:00 Uhr
URL:https://schtaegge-naeschter.de/event/liggersdorf-4/
LOCATION:Hohenfelshalle Liggersdorf\, Hauptstraße 51\, Liggersdorf\, Baden- Württemberg\, 78355
CATEGORIES:Auftrittstermine
END:VEVENT
BEGIN:VEVENT
DTSTART;VALUE=DATE:20200106
DTEND;VALUE=DATE:20200111
DTSTAMP:20260425T172809
CREATED:20191028T173948Z
LAST-MODIFIED:20191028T173948Z
UID:15473-1578297600-1578643199@schtaegge-naeschter.de
SUMMARY:Aufbau Jubiläum
DESCRIPTION:Abfahrt: Ganztags!
URL:https://schtaegge-naeschter.de/event/aufbau-jubilaeum/
LOCATION:Baden-Württemberg
END:VEVENT
BEGIN:VEVENT
DTSTART;VALUE=DATE:20200110
DTEND;VALUE=DATE:20200113
DTSTAMP:20260425T172809
CREATED:20191028T174111Z
LAST-MODIFIED:20191121T170458Z
UID:15476-1578643200-1578815999@schtaegge-naeschter.de
SUMMARY:25 Jahre Schtägge Näschter Honstetten
DESCRIPTION:
URL:https://schtaegge-naeschter.de/event/25-jahre-schtaegge-naeschter-honstetten/
LOCATION:Sporthalle Heudorf\, Kreustraße\, Heudorf im Hegau/ Eigeltingen\, Baden- Württemberg\, 78253\, Deutschland
END:VEVENT
BEGIN:VEVENT
DTSTART;TZID=Europe/Berlin:20200118T163000
DTEND;TZID=Europe/Berlin:20200119T013000
DTSTAMP:20260425T172809
CREATED:20191028T174339Z
LAST-MODIFIED:20191029T081006Z
UID:15479-1579365000-1579397400@schtaegge-naeschter.de
SUMMARY:Wahlwies
DESCRIPTION:Am 18.01. sind wir mit unserer Zunft\, den Wasserburger Talgeistern\, in Wahlwies am Bolizeitreffen. \nDort werden wir den Umzug musikalisch begleiten und uns anschließend mit dem Strom in Richtung Zelt/Besenwirtschaften begeben. \n  \nBusdaten: \nAbfahrt: 16:45 Uhr & 17:30 Uhr \nRückfahrt: 00:30 Uhr & 01:30 Uhr
URL:https://schtaegge-naeschter.de/event/wahlwies-2/
LOCATION:Wahlwies\, Stockach - Wahlwies\, Baden- Württemberg\, 78333\, Deutschland
CATEGORIES:Auftrittstermine
END:VEVENT
BEGIN:VEVENT
DTSTART;TZID=Europe/Berlin:20200125T203000
DTEND;TZID=Europe/Berlin:20200126T020000
DTSTAMP:20260425T172809
CREATED:20191028T174523Z
LAST-MODIFIED:20191029T080833Z
UID:15483-1579984200-1580004000@schtaegge-naeschter.de
SUMMARY:Engen
DESCRIPTION:Zum HALLI-GALLI GUGGAFÄSCHT laden die Bittelbrunner Glockästupfer am 25.01. ein. Das Fäscht wird wie schon beim letzen mal in der Neuen Stadthalle in Engen stattfinden. \nBei der jährliche Happy Hour von 19 – 20 Uhr dürft ihr euch gerne schon einmal auf unseren Auftritt warm trinken\, um mit uns so richtig durchzudrehen. \n  \nBusdaten: \nAbfahrt: 20:30 Uhr \nRückfahrt: 02:00 Uhr
URL:https://schtaegge-naeschter.de/event/engen-2/
LOCATION:Stadthalle Engen\, Hohenstoffelstraße 3\, Engen\, Baden-Württemberg\, 78234\, Deutschland
END:VEVENT
END:VCALENDAR