BEGIN:VCALENDAR
VERSION:2.0
PRODID:-//Schtägge-Näschter - ECPv6.15.16.1//NONSGML v1.0//EN
CALSCALE:GREGORIAN
METHOD:PUBLISH
X-ORIGINAL-URL:https://schtaegge-naeschter.de
X-WR-CALDESC:Veranstaltungen für Schtägge-Näschter
REFRESH-INTERVAL;VALUE=DURATION:PT1H
X-Robots-Tag:noindex
X-PUBLISHED-TTL:PT1H
BEGIN:VTIMEZONE
TZID:Europe/Berlin
BEGIN:DAYLIGHT
TZOFFSETFROM:+0100
TZOFFSETTO:+0200
TZNAME:CEST
DTSTART:20180325T010000
END:DAYLIGHT
BEGIN:STANDARD
TZOFFSETFROM:+0200
TZOFFSETTO:+0100
TZNAME:CET
DTSTART:20181028T010000
END:STANDARD
BEGIN:DAYLIGHT
TZOFFSETFROM:+0100
TZOFFSETTO:+0200
TZNAME:CEST
DTSTART:20190331T010000
END:DAYLIGHT
BEGIN:STANDARD
TZOFFSETFROM:+0200
TZOFFSETTO:+0100
TZNAME:CET
DTSTART:20191027T010000
END:STANDARD
BEGIN:DAYLIGHT
TZOFFSETFROM:+0100
TZOFFSETTO:+0200
TZNAME:CEST
DTSTART:20200329T010000
END:DAYLIGHT
BEGIN:STANDARD
TZOFFSETFROM:+0200
TZOFFSETTO:+0100
TZNAME:CET
DTSTART:20201025T010000
END:STANDARD
END:VTIMEZONE
BEGIN:VEVENT
DTSTART;TZID=Europe/Berlin:20191202T200000
DTEND;TZID=Europe/Berlin:20191202T220000
DTSTAMP:20260425T185100
CREATED:20191029T073358Z
LAST-MODIFIED:20191029T073358Z
UID:15523-1575316800-1575324000@schtaegge-naeschter.de
SUMMARY:Probe
DESCRIPTION:
URL:https://schtaegge-naeschter.de/event/probe-43/
LOCATION:Probelokal\, Widumstraße 6\, Eigeltingen-Honstetten\, Baden-Württemberg\, 78253\, Deutschland
CATEGORIES:Proben
END:VEVENT
BEGIN:VEVENT
DTSTART;TZID=Europe/Berlin:20191209T200000
DTEND;TZID=Europe/Berlin:20191209T220000
DTSTAMP:20260425T185100
CREATED:20191029T073426Z
LAST-MODIFIED:20191029T073426Z
UID:15526-1575921600-1575928800@schtaegge-naeschter.de
SUMMARY:Probe
DESCRIPTION:
URL:https://schtaegge-naeschter.de/event/probe-44/
LOCATION:Probelokal\, Widumstraße 6\, Eigeltingen-Honstetten\, Baden-Württemberg\, 78253\, Deutschland
CATEGORIES:Proben
END:VEVENT
BEGIN:VEVENT
DTSTART;TZID=Europe/Berlin:20191216T200000
DTEND;TZID=Europe/Berlin:20191216T220000
DTSTAMP:20260425T185100
CREATED:20191029T073457Z
LAST-MODIFIED:20191029T073457Z
UID:15529-1576526400-1576533600@schtaegge-naeschter.de
SUMMARY:Probe
DESCRIPTION:
URL:https://schtaegge-naeschter.de/event/probe-45/
LOCATION:Probelokal\, Widumstraße 6\, Eigeltingen-Honstetten\, Baden-Württemberg\, 78253\, Deutschland
CATEGORIES:Proben
END:VEVENT
BEGIN:VEVENT
DTSTART;TZID=Europe/Berlin:20191220T200000
DTEND;TZID=Europe/Berlin:20191221T180000
DTSTAMP:20260425T185100
CREATED:20191029T073915Z
LAST-MODIFIED:20191029T074106Z
UID:15532-1576872000-1576951200@schtaegge-naeschter.de
SUMMARY:Probewochenende
DESCRIPTION:Wie jedes Jahr werden wir unser neues Programm durch das Probenwochenende noch festigen. \n  \nAblauf: \nFreitag: \n20:00 Uhr Gesamtprobe \n  \nSamstag: \n13:00 Uhr Registerprobe \n14:30 Uhr Gesamtprobe \n16:00 Uhr Kaffeepause \n16:30 Uhr Gesamtprobe\, danach gemeinsames Abendessen
URL:https://schtaegge-naeschter.de/event/15532/
LOCATION:Probelokal\, Widumstraße 6\, Eigeltingen-Honstetten\, Baden-Württemberg\, 78253\, Deutschland
CATEGORIES:Proben
END:VEVENT
BEGIN:VEVENT
DTSTART;TZID=Europe/Berlin:20191230T200000
DTEND;TZID=Europe/Berlin:20191230T220000
DTSTAMP:20260425T185100
CREATED:20191029T074039Z
LAST-MODIFIED:20191029T074039Z
UID:15536-1577736000-1577743200@schtaegge-naeschter.de
SUMMARY:Probe
DESCRIPTION:
URL:https://schtaegge-naeschter.de/event/probe-46/
LOCATION:Probelokal\, Widumstraße 6\, Eigeltingen-Honstetten\, Baden-Württemberg\, 78253\, Deutschland
CATEGORIES:Proben
END:VEVENT
END:VCALENDAR