BEGIN:VCALENDAR
VERSION:2.0
PRODID:-//Schtägge-Näschter - ECPv6.15.16.1//NONSGML v1.0//EN
CALSCALE:GREGORIAN
METHOD:PUBLISH
X-ORIGINAL-URL:https://schtaegge-naeschter.de
X-WR-CALDESC:Veranstaltungen für Schtägge-Näschter
REFRESH-INTERVAL;VALUE=DURATION:PT1H
X-Robots-Tag:noindex
X-PUBLISHED-TTL:PT1H
BEGIN:VTIMEZONE
TZID:Europe/Berlin
BEGIN:DAYLIGHT
TZOFFSETFROM:+0100
TZOFFSETTO:+0200
TZNAME:CEST
DTSTART:20180325T010000
END:DAYLIGHT
BEGIN:STANDARD
TZOFFSETFROM:+0200
TZOFFSETTO:+0100
TZNAME:CET
DTSTART:20181028T010000
END:STANDARD
BEGIN:DAYLIGHT
TZOFFSETFROM:+0100
TZOFFSETTO:+0200
TZNAME:CEST
DTSTART:20190331T010000
END:DAYLIGHT
BEGIN:STANDARD
TZOFFSETFROM:+0200
TZOFFSETTO:+0100
TZNAME:CET
DTSTART:20191027T010000
END:STANDARD
BEGIN:DAYLIGHT
TZOFFSETFROM:+0100
TZOFFSETTO:+0200
TZNAME:CEST
DTSTART:20200329T010000
END:DAYLIGHT
BEGIN:STANDARD
TZOFFSETFROM:+0200
TZOFFSETTO:+0100
TZNAME:CET
DTSTART:20201025T010000
END:STANDARD
END:VTIMEZONE
BEGIN:VEVENT
DTSTART;TZID=Europe/Berlin:20191104T200000
DTEND;TZID=Europe/Berlin:20191104T220000
DTSTAMP:20260425T213846
CREATED:20191029T073035Z
LAST-MODIFIED:20191029T073035Z
UID:15511-1572897600-1572904800@schtaegge-naeschter.de
SUMMARY:Probe
DESCRIPTION:
URL:https://schtaegge-naeschter.de/event/probe-38/
LOCATION:Probelokal\, Widumstraße 6\, Eigeltingen-Honstetten\, Baden-Württemberg\, 78253\, Deutschland
CATEGORIES:Proben
END:VEVENT
BEGIN:VEVENT
DTSTART;TZID=Europe/Berlin:20191111T200000
DTEND;TZID=Europe/Berlin:20191111T220000
DTSTAMP:20260425T213846
CREATED:20191029T073136Z
LAST-MODIFIED:20191029T073136Z
UID:15514-1573502400-1573509600@schtaegge-naeschter.de
SUMMARY:Probe
DESCRIPTION:
URL:https://schtaegge-naeschter.de/event/probe-40/
LOCATION:Probelokal\, Widumstraße 6\, Eigeltingen-Honstetten\, Baden-Württemberg\, 78253\, Deutschland
CATEGORIES:Proben
END:VEVENT
BEGIN:VEVENT
DTSTART;TZID=Europe/Berlin:20191118T200000
DTEND;TZID=Europe/Berlin:20191118T220000
DTSTAMP:20260425T213846
CREATED:20191029T073215Z
LAST-MODIFIED:20191029T073215Z
UID:15517-1574107200-1574114400@schtaegge-naeschter.de
SUMMARY:Probe
DESCRIPTION:
URL:https://schtaegge-naeschter.de/event/probe-41/
LOCATION:Probelokal\, Widumstraße 6\, Eigeltingen-Honstetten\, Baden-Württemberg\, 78253\, Deutschland
CATEGORIES:Proben
END:VEVENT
BEGIN:VEVENT
DTSTART;TZID=Europe/Berlin:20191125T200000
DTEND;TZID=Europe/Berlin:20191125T220000
DTSTAMP:20260425T213846
CREATED:20191029T073245Z
LAST-MODIFIED:20191029T073245Z
UID:15520-1574712000-1574719200@schtaegge-naeschter.de
SUMMARY:Probe
DESCRIPTION:
URL:https://schtaegge-naeschter.de/event/probe-42/
LOCATION:Probelokal\, Widumstraße 6\, Eigeltingen-Honstetten\, Baden-Württemberg\, 78253\, Deutschland
CATEGORIES:Proben
END:VEVENT
END:VCALENDAR